BEGIN:VCALENDAR
VERSION:2.0
PRODID:-//Modellfluggruppe Auenstein//NONSGML kigkonsult.se iCalcreator 2.41.92//
CALSCALE:GREGORIAN
METHOD:PUBLISH
UID:31636565-6262-4933-b133-346166663730
X-WR-CALNAME:iCagenda
X-WR-CALDESC:Event Management Extension for Joomla!
X-WR-RELCALID:3E26604A-50F4-4449-8B3E-E4F4932D05B5
X-WR-TIMEZONE:UTC
BEGIN:VTIMEZONE
TZID:UTC
END:VTIMEZONE
BEGIN:VEVENT
UID:61363064-6631-4235-b461-376435363165
DTSTAMP:20260419T234208Z
CATEGORIES:Wettbewerb
CLASS:PUBLIC
DESCRIPTION:
DTSTART:20260808T113600Z
DTEND:20260809T113600Z
GEO:00;0
LOCATION:Tschentenalp
ORGANIZER:
SEQUENCE:1
SUMMARY:Segelweekend Tschentenalp
TRANSP:OPAQUE
URL:https://mfgau.ch/index.php/aktivitaeten/45-segelweekend-tschentenalp-3
END:VEVENT
END:VCALENDAR
