BEGIN:VCALENDAR
VERSION:2.0
PRODID:-//Modellfluggruppe Auenstein//NONSGML kigkonsult.se iCalcreator 2.41.92//
CALSCALE:GREGORIAN
METHOD:PUBLISH
UID:38346238-3630-4137-b730-376263613134
X-WR-CALNAME:iCagenda
X-WR-CALDESC:Event Management Extension for Joomla!
X-WR-RELCALID:3E26604A-50F4-4449-8B3E-E4F4932D05B5
X-WR-TIMEZONE:UTC
BEGIN:VTIMEZONE
TZID:UTC
END:VTIMEZONE
BEGIN:VEVENT
UID:62373132-6533-4564-b732-613733346438
DTSTAMP:20260419T234505Z
CATEGORIES:Wettbewerb
CLASS:PUBLIC
DESCRIPTION:
DTSTART:20260821T193000Z
DTEND:20260821T193000Z
GEO:00;0
LOCATION:Bachhüsli / Badi Küttigen
ORGANIZER:
SEQUENCE:1
SUMMARY:Spez Höck\, Pizzaessen
TRANSP:OPAQUE
URL:https://mfgau.ch/index.php/aktivitaeten/46-spez-hoeck-pizzaessen-3/2026
 -08-21-19-30
END:VEVENT
END:VCALENDAR
