BEGIN:VCALENDAR
VERSION:2.0
PRODID:-//Modellfluggruppe Auenstein//NONSGML kigkonsult.se iCalcreator 2.41.92//
CALSCALE:GREGORIAN
METHOD:PUBLISH
UID:34303966-3438-4337-b930-303333343036
X-WR-CALNAME:iCagenda
X-WR-CALDESC:Event Management Extension for Joomla!
X-WR-RELCALID:3E26604A-50F4-4449-8B3E-E4F4932D05B5
X-WR-TIMEZONE:UTC
BEGIN:VTIMEZONE
TZID:UTC
END:VTIMEZONE
BEGIN:VEVENT
UID:66336435-6137-4230-b462-343134316532
DTSTAMP:20260420T105818Z
CATEGORIES:Event
CLASS:PUBLIC
DESCRIPTION:
DTSTART:20240810T080000Z
DTEND:20240811T165200Z
GEO:00;0
LOCATION:Tschentenalp
ORGANIZER:
SEQUENCE:1
SUMMARY:Segelweekend Tschentenalp
TRANSP:OPAQUE
URL:https://mfgau.ch/index.php/component/icagenda/10-segelweekend-tschenten
 alp?Itemid=101
END:VEVENT
END:VCALENDAR
