BEGIN:VCALENDAR
VERSION:2.0
PRODID:-//Modellfluggruppe Auenstein//NONSGML kigkonsult.se iCalcreator 2.41.92//
CALSCALE:GREGORIAN
METHOD:PUBLISH
UID:61656162-3733-4134-a262-616632656331
X-WR-CALNAME:iCagenda
X-WR-CALDESC:Event Management Extension for Joomla!
X-WR-RELCALID:3E26604A-50F4-4449-8B3E-E4F4932D05B5
X-WR-TIMEZONE:UTC
BEGIN:VTIMEZONE
TZID:UTC
END:VTIMEZONE
BEGIN:VEVENT
UID:37303566-3865-4638-a263-303431386335
DTSTAMP:20260420T105824Z
CATEGORIES:Freitagshöck
CLASS:PUBLIC
DESCRIPTION:
DTSTART:20240816T193000Z
DTEND:20240816T193000Z
GEO:00;0
LOCATION:Küttigen
ORGANIZER:
SEQUENCE:1
SUMMARY:Spez Höck\, Pizzaessen
TRANSP:OPAQUE
URL:https://mfgau.ch/index.php/component/icagenda/11-spez-hoeck-pizzaessen/
 2024-08-16-19-30?Itemid=101
END:VEVENT
END:VCALENDAR
