BEGIN:VCALENDAR
VERSION:2.0
PRODID:-//Modellfluggruppe Auenstein//NONSGML kigkonsult.se iCalcreator 2.41.92//
CALSCALE:GREGORIAN
METHOD:PUBLISH
UID:66636339-6365-4432-b535-343531373737
X-WR-CALNAME:iCagenda
X-WR-CALDESC:Event Management Extension for Joomla!
X-WR-RELCALID:3E26604A-50F4-4449-8B3E-E4F4932D05B5
X-WR-TIMEZONE:UTC
BEGIN:VTIMEZONE
TZID:UTC
END:VTIMEZONE
BEGIN:VEVENT
UID:66646536-6131-4239-b331-626437663431
DTSTAMP:20260420T124510Z
CATEGORIES:Event
CLASS:PUBLIC
DESCRIPTION:
DTSTART:20240922T120000Z
DTEND:20240922T120000Z
GEO:00;0
LOCATION:Flugplatz Kulm
ORGANIZER:
SEQUENCE:1
SUMMARY:Freundschaftsfliegen MG Kulm
TRANSP:OPAQUE
URL:https://mfgau.ch/index.php/component/icagenda/12-freundschaftsfliegen-m
 g-kulm/2024-09-22-12-00?Itemid=101
END:VEVENT
END:VCALENDAR
