BEGIN:VCALENDAR
VERSION:2.0
PRODID:-//Modellfluggruppe Auenstein//NONSGML kigkonsult.se iCalcreator 2.41.92//
CALSCALE:GREGORIAN
METHOD:PUBLISH
UID:37323963-3463-4235-a631-643034376338
X-WR-CALNAME:iCagenda
X-WR-CALDESC:Event Management Extension for Joomla!
X-WR-RELCALID:3E26604A-50F4-4449-8B3E-E4F4932D05B5
X-WR-TIMEZONE:UTC
BEGIN:VTIMEZONE
TZID:UTC
END:VTIMEZONE
BEGIN:VEVENT
UID:61653733-3064-4538-a632-306434393430
DTSTAMP:20260420T133015Z
CATEGORIES:Freitagshöck
CLASS:PUBLIC
DESCRIPTION:
DTSTART:20241018T200000Z
DTEND:20241018T200000Z
GEO:00;0
LOCATION:Thalheim
ORGANIZER:
SEQUENCE:1
SUMMARY:Spez-Höck\, Metzgete
TRANSP:OPAQUE
URL:https://mfgau.ch/index.php/component/icagenda/14-spez-hoeck-metzgete/20
 24-10-18-20-00?Itemid=101
END:VEVENT
END:VCALENDAR
