BEGIN:VCALENDAR
VERSION:2.0
PRODID:-//Modellfluggruppe Auenstein//NONSGML kigkonsult.se iCalcreator 2.41.92//
CALSCALE:GREGORIAN
METHOD:PUBLISH
UID:37336438-6335-4561-b663-393333613566
X-WR-CALNAME:iCagenda
X-WR-CALDESC:Event Management Extension for Joomla!
X-WR-RELCALID:3E26604A-50F4-4449-8B3E-E4F4932D05B5
X-WR-TIMEZONE:UTC
BEGIN:VTIMEZONE
TZID:UTC
END:VTIMEZONE
BEGIN:VEVENT
UID:39343031-6137-4332-a161-353061613133
DTSTAMP:20260420T113625Z
CATEGORIES:Hallenfliegen
CLASS:PUBLIC
DESCRIPTION:
DTSTART:20241124T121500Z
DTEND:20241124T121500Z
GEO:00;0
LOCATION:Turnhalle Auenstein
ORGANIZER:
SEQUENCE:1
SUMMARY:Abschluss Hallenflugsaison
TRANSP:OPAQUE
URL:https://mfgau.ch/index.php/component/icagenda/21-hallenfliegen/2024-11-
 24-12-15?Itemid=101
END:VEVENT
END:VCALENDAR
