BEGIN:VCALENDAR
VERSION:2.0
PRODID:-//Modellfluggruppe Auenstein//NONSGML kigkonsult.se iCalcreator 2.41.92//
CALSCALE:GREGORIAN
METHOD:PUBLISH
UID:31333539-3864-4435-a234-353033623961
X-WR-CALNAME:iCagenda
X-WR-CALDESC:Event Management Extension for Joomla!
X-WR-RELCALID:3E26604A-50F4-4449-8B3E-E4F4932D05B5
X-WR-TIMEZONE:UTC
BEGIN:VTIMEZONE
TZID:UTC
END:VTIMEZONE
BEGIN:VEVENT
UID:35646462-3661-4563-a636-666330333837
DTSTAMP:20260420T113703Z
CATEGORIES:Hallenfliegen
CLASS:PUBLIC
DESCRIPTION:
DTSTART:20251214T121500Z
DTEND:20251214T121500Z
GEO:00;0
LOCATION:
ORGANIZER:
SEQUENCE:1
SUMMARY:Hallenfliegen
TRANSP:OPAQUE
URL:https://mfgau.ch/index.php/component/icagenda/38-hallenfliegen-2/2025-1
 2-14-12-15?Itemid=101
END:VEVENT
END:VCALENDAR
