BEGIN:VCALENDAR
VERSION:2.0
PRODID:-//Modellfluggruppe Auenstein//NONSGML kigkonsult.se iCalcreator 2.41.92//
CALSCALE:GREGORIAN
METHOD:PUBLISH
UID:32353062-6131-4430-b137-323735326565
X-WR-CALNAME:iCagenda
X-WR-CALDESC:Event Management Extension for Joomla!
X-WR-RELCALID:3E26604A-50F4-4449-8B3E-E4F4932D05B5
X-WR-TIMEZONE:UTC
BEGIN:VTIMEZONE
TZID:UTC
END:VTIMEZONE
BEGIN:VEVENT
UID:61323933-3738-4339-b232-393734386539
DTSTAMP:20260420T080441Z
CATEGORIES:Hallenfliegen
CLASS:PUBLIC
DESCRIPTION:
DTSTART:20260201T121500Z
DTEND:20260201T121500Z
GEO:00;0
LOCATION:
ORGANIZER:
SEQUENCE:1
SUMMARY:Hallenfliegen
TRANSP:OPAQUE
URL:https://mfgau.ch/index.php/component/icagenda/38-hallenfliegen-2/2026-0
 2-01-12-15?Itemid=101
END:VEVENT
END:VCALENDAR
