BEGIN:VCALENDAR
VERSION:2.0
PRODID:-//Modellfluggruppe Auenstein//NONSGML kigkonsult.se iCalcreator 2.41.92//
CALSCALE:GREGORIAN
METHOD:PUBLISH
UID:62643232-3765-4533-b166-343033643239
X-WR-CALNAME:iCagenda
X-WR-CALDESC:Event Management Extension for Joomla!
X-WR-RELCALID:3E26604A-50F4-4449-8B3E-E4F4932D05B5
X-WR-TIMEZONE:UTC
BEGIN:VTIMEZONE
TZID:UTC
END:VTIMEZONE
BEGIN:VEVENT
UID:39636161-6636-4637-b131-336537393931
DTSTAMP:20260420T060744Z
CATEGORIES:Event
CLASS:PUBLIC
DESCRIPTION:
DTSTART:20240504T100000Z
DTEND:20240504T100000Z
GEO:00;0
LOCATION:Flugplatz Elbis
ORGANIZER:
SEQUENCE:1
SUMMARY:Unterhalt Elbis
TRANSP:OPAQUE
URL:https://mfgau.ch/index.php/component/icagenda/4-unterhalt-elbis/2024-05
 -04-10-00?Itemid=101
END:VEVENT
END:VCALENDAR
