BEGIN:VCALENDAR
VERSION:2.0
PRODID:-//Modellfluggruppe Auenstein//NONSGML kigkonsult.se iCalcreator 2.41.92//
CALSCALE:GREGORIAN
METHOD:PUBLISH
UID:39666235-3236-4366-a234-336564616238
X-WR-CALNAME:iCagenda
X-WR-CALDESC:Event Management Extension for Joomla!
X-WR-RELCALID:3E26604A-50F4-4449-8B3E-E4F4932D05B5
X-WR-TIMEZONE:UTC
BEGIN:VTIMEZONE
TZID:UTC
END:VTIMEZONE
BEGIN:VEVENT
UID:36653763-3739-4532-b631-663638633564
DTSTAMP:20260420T072059Z
CATEGORIES:Event
CLASS:PUBLIC
DESCRIPTION:
DTSTART:20240602T164500Z
DTEND:20240602T164500Z
GEO:00;0
LOCATION:Auenstein
ORGANIZER:
SEQUENCE:1
SUMMARY:Jugendfest Auenstein
TRANSP:OPAQUE
URL:https://mfgau.ch/index.php/component/icagenda/5-jugendfest-auenstein/20
 24-06-02-16-45?Itemid=101
END:VEVENT
END:VCALENDAR
