BEGIN:VCALENDAR
VERSION:2.0
PRODID:-//Modellfluggruppe Auenstein//NONSGML kigkonsult.se iCalcreator 2.41.92//
CALSCALE:GREGORIAN
METHOD:PUBLISH
UID:31363831-3732-4966-a565-663334653862
X-WR-CALNAME:iCagenda
X-WR-CALDESC:Event Management Extension for Joomla!
X-WR-RELCALID:3E26604A-50F4-4449-8B3E-E4F4932D05B5
X-WR-TIMEZONE:UTC
BEGIN:VTIMEZONE
TZID:UTC
END:VTIMEZONE
BEGIN:VEVENT
UID:30333066-3765-4338-a333-303830613530
DTSTAMP:20260420T072339Z
CATEGORIES:Event
CLASS:PUBLIC
DESCRIPTION:
DTSTART:20240610T164800Z
DTEND:20240610T164800Z
GEO:00;0
LOCATION:Buochs
ORGANIZER:
SEQUENCE:1
SUMMARY:Besuch Pilatuswerke Buochs
TRANSP:OPAQUE
URL:https://mfgau.ch/index.php/component/icagenda/7-besuch-pilatuswerke-buo
 chs/2024-06-10-16-48?Itemid=101
END:VEVENT
END:VCALENDAR
